BEGIN:VCALENDAR
VERSION:2.0
PRODID:-//Library Market//iCal Export//EN
BEGIN:VEVENT
SUMMARY:Navaspl
UID:52606
DTSTAMP:20260426T004300Z
DTSTART:20260429T200000Z
DTEND:20260430T000000Z
LOCATION:Guilderland Public Library, 2228 Western Ave, Guilderland, NY 120
 84, United States
ROOM: Helderberg Meeting Room
DESCRIPTION:Navaspl
URL:https://guilderland.librarycalendar.com/event/navaspl-52606
END:VEVENT
END:VCALENDAR
