BEGIN:VCALENDAR
VERSION:2.0
PRODID:-//Library Market//iCal Export//EN
BEGIN:VEVENT
SUMMARY:Pension Maximization
UID:52572
DTSTAMP:20260426T004300Z
DTSTART:20260520T220000Z
DTEND:20260521T000000Z
LOCATION:Guilderland Public Library, 2228 Western Ave, Guilderland, NY 120
 84, United States
ROOM: Helderberg Meeting Room
DESCRIPTION:One day semianr to teach the following:\r\nMake the most of yo
 ur state pension in your retirement plan. Learn from professionals who spe
 cialize in state employee pensions. Through this course you&#039;ll learn 
 how to:\r\n \r\nProtect your spouse: Learn how you can provide more securi
 ty for your spouse in the event of the unexpected, while potentially incre
 asing the income you both enjoy throughout retirement.\r\nProtect your kid
 s: Explore how you can protect your spouse while ensuring your kids and gr
 andchildren are cared for. Discover how you can provide for both.\r\nLeave
  a legacy: Learn how a strategy can help you take control and ensure your 
 legacy lives on.\r\n \r\nThis course is for New York state teachers, law e
 nforcement, firefighters, county and state employees.
URL:https://guilderland.librarycalendar.com/event/pension-maximization-525
 72
END:VEVENT
END:VCALENDAR
