BEGIN:VCALENDAR
VERSION:2.0
PRODID:-//Library Market//iCal Export//EN
BEGIN:VEVENT
SUMMARY:Learn Along Play
UID:52515
DTSTAMP:20260424T000300Z
DTSTART:20260528T143000Z
DTEND:20260528T153000Z
LOCATION:Guilderland Public Library, 2228 Western Ave, Guilderland, NY 120
 84, United States
ROOM: Children&#039;s Program Room
DESCRIPTION:Littles and caregivers can join us for an open playtime with o
 ur toys and fine motor activities!Ages 0-5.Registration not required.
URL:https://guilderland.librarycalendar.com/event/learn-along-play-52515
END:VEVENT
END:VCALENDAR
