BEGIN:VCALENDAR
VERSION:2.0
PRODID:-//Library Market//iCal Export//EN
BEGIN:VEVENT
SUMMARY:Telugu Event
UID:52335
DTSTAMP:20260424T000300Z
DTSTART:20260507T200000Z
DTEND:20260508T000000Z
LOCATION:Guilderland Public Library, 2228 Western Ave, Guilderland, NY 120
 84, United States
ROOM: Helderberg Meeting Room
DESCRIPTION:Telugu Event
URL:https://guilderland.librarycalendar.com/event/telugu-event-52335
END:VEVENT
END:VCALENDAR
