BEGIN:VCALENDAR
VERSION:2.0
PRODID:-//Library Market//iCal Export//EN
BEGIN:VEVENT
SUMMARY:TriCia
UID:52334
DTSTAMP:20260424T023300Z
DTSTART:20260504T200000Z
DTEND:20260505T000000Z
LOCATION:Guilderland Public Library, 2228 Western Ave, Guilderland, NY 120
 84, United States
ROOM: Helderberg Meeting Room
DESCRIPTION:TriCia event: Tri city Indian association conduct cultural act
 ivities for spring festival We are practicing for that
URL:https://guilderland.librarycalendar.com/event/tricia-52334
END:VEVENT
END:VCALENDAR
