BEGIN:VCALENDAR
VERSION:2.0
PRODID:-//Library Market//iCal Export//EN
BEGIN:VEVENT
SUMMARY:Period Party!
UID:48320
DTSTAMP:20260423T092600Z
DTSTART:20260530T170000Z
DTEND:20260530T190000Z
LOCATION:Guilderland Public Library, 2228 Western Ave, Guilderland, NY 120
 84, United States
ROOM: Helderberg Meeting Room
DESCRIPTION:There&#039;s a Period Party at the library and you&#039;re inv
 ited! Upper Hudson Planned Parenthood has prepared a welcoming and informa
 tive afternoon to help ease period anxiety by answering common questions a
 bout menstruation, discussing basic period hygiene, and demonstrating a va
 riety of helpful products.Join the party to learn more about menstruation,
  enjoy some refreshments, and create your own &quot;on-the-go&quot; period
  bags with various period products courtesy of UHPP! Grades 4-8 &amp; car
 egivers are welcome, registration is required.Please include in the notes 
 field if you have any food allergies we should be aware of.
URL:https://guilderland.librarycalendar.com/event/period-party-48320
END:VEVENT
END:VCALENDAR
